Back to Multiple platform build/check report for BioC 3.12
ABCDEFG[H]IJKLMNOPQRSTUVWXYZ

BUILD BIN report for hierGWAS on merida1

This page was generated on 2021-01-19 11:57:33 -0500 (Tue, 19 Jan 2021).

TO THE DEVELOPERS/MAINTAINERS OF THE hierGWAS PACKAGE: Please make sure to use the following settings in order to reproduce any error or warning you see on this page.
Package 832/1974HostnameOS / ArchINSTALLBUILDCHECKBUILD BIN
hierGWAS 1.20.0
Laura Buzdugan
Snapshot Date: 2021-01-18 14:42:24 -0500 (Mon, 18 Jan 2021)
URL: https://git.bioconductor.org/packages/hierGWAS
Branch: RELEASE_3_12
Last Commit: 1559099
Last Changed Date: 2020-10-27 11:05:51 -0500 (Tue, 27 Oct 2020)
malbec1 Linux (Ubuntu 18.04.5 LTS) / x86_64  OK  OK  OK UNNEEDED, same version exists in internal repository
nebbiolo1 Linux (Ubuntu 20.04.1 LTS) / x86_64  OK  OK  OK 
tokay1 Windows Server 2012 R2 Standard / x64  OK  OK  OK  OK UNNEEDED, same version exists in internal repository
merida1 macOS 10.14.6 Mojave / x86_64  OK  OK  OK [ OK ]UNNEEDED, same version exists in internal repository

Summary

Package: hierGWAS
Version: 1.20.0
Command: rm -rf hierGWAS.buildbin-libdir && mkdir hierGWAS.buildbin-libdir && /Users/biocbuild/BBS/utils/build-universal.sh hierGWAS_1.20.0.tar.gz /Library/Frameworks/R.framework/Versions/Current/Resources/bin/R hierGWAS.buildbin-libdir
StartedAt: 2021-01-19 08:55:23 -0500 (Tue, 19 Jan 2021)
EndedAt: 2021-01-19 08:56:27 -0500 (Tue, 19 Jan 2021)
EllapsedTime: 64.4 seconds
RetCode: 0
Status:  OK 
PackageFile: hierGWAS_1.20.0.tgz
PackageFileSize: 434.5 KiB

Command output

##############################################################################
##############################################################################
###
### Running command:
###
###   rm -rf hierGWAS.buildbin-libdir && mkdir hierGWAS.buildbin-libdir && /Users/biocbuild/BBS/utils/build-universal.sh hierGWAS_1.20.0.tar.gz /Library/Frameworks/R.framework/Versions/Current/Resources/bin/R hierGWAS.buildbin-libdir
###
##############################################################################
##############################################################################


>>>>>>> 
>>>>>>> INSTALLATION WITH 'R CMD INSTALL --preclean --no-multiarch --library=hierGWAS.buildbin-libdir hierGWAS_1.20.0.tar.gz'
>>>>>>> 

* installing *source* package ‘hierGWAS’ ...
** using staged installation
** R
** data
*** moving datasets to lazyload DB
** inst
** byte-compile and prepare package for lazy loading
** help
*** installing help indices
** building package indices
** installing vignettes
** testing if installed package can be loaded from temporary location
** testing if installed package can be loaded from final location
** testing if installed package keeps a record of temporary installation path
* DONE (hierGWAS)