Name | Last modified | Size | Description | |
---|---|---|---|---|
Parent Directory | - | |||
install-summary.dcf | 27-Jul-2024 06:38 | 277 | ||
buildsrc-summary.dcf | 27-Jul-2024 06:38 | 444 | ||
checksrc-summary.dcf | 27-Jul-2024 06:38 | 450 | ||
install-out.txt | 27-Jul-2024 06:38 | 1.0K | ||
buildsrc-out.txt | 27-Jul-2024 06:38 | 1.1K | ||
checksrc-out.txt | 27-Jul-2024 06:38 | 6.8K | ||