Back to Multiple platform build/check report for BioC 3.18:   simplified   long
ABCDEFG[H]IJKLMNOPQRSTUVWXYZ

This page was generated on 2024-03-29 11:36:51 -0400 (Fri, 29 Mar 2024).

HostnameOSArch (*)R versionInstalled pkgs
nebbiolo2Linux (Ubuntu 22.04.3 LTS)x86_644.3.3 (2024-02-29) -- "Angel Food Cake" 4669
palomino4Windows Server 2022 Datacenterx644.3.3 (2024-02-29 ucrt) -- "Angel Food Cake" 4404
merida1macOS 12.7.1 Montereyx86_644.3.3 (2024-02-29) -- "Angel Food Cake" 4427
Click on any hostname to see more info about the system (e.g. compilers)      (*) as reported by 'uname -p', except on Windows and Mac OS X

Package 929/2266HostnameOS / ArchINSTALLBUILDCHECKBUILD BIN
h5vc 2.36.0  (landing page)
Paul Theodor Pyl
Snapshot Date: 2024-03-27 14:05:05 -0400 (Wed, 27 Mar 2024)
git_url: https://git.bioconductor.org/packages/h5vc
git_branch: RELEASE_3_18
git_last_commit: 7284b89
git_last_commit_date: 2023-10-24 09:56:42 -0400 (Tue, 24 Oct 2023)
nebbiolo2Linux (Ubuntu 22.04.3 LTS) / x86_64  OK    OK    WARNINGS  UNNEEDED, same version is already published
palomino4Windows Server 2022 Datacenter / x64  OK    OK    WARNINGS    OK  UNNEEDED, same version is already published
merida1macOS 12.7.1 Monterey / x86_64  OK    OK    WARNINGS    OK  UNNEEDED, same version is already published
kjohnson1macOS 13.6.1 Ventura / arm64see weekly results here

BUILD BIN results for h5vc on palomino4


To the developers/maintainers of the h5vc package:
- Allow up to 24 hours (and sometimes 48 hours) for your latest push to git@git.bioconductor.org:packages/h5vc.git to reflect on this report. See Troubleshooting Build Report for more information.
- Use the following Renviron settings to reproduce errors and warnings.
- If 'R CMD check' started to fail recently on the Linux builder(s) over a missing dependency, add the missing dependency to 'Suggests:' in your DESCRIPTION file. See Renviron.bioc for more information.

raw results


Summary

Package: h5vc
Version: 2.36.0
Command: rm -rf h5vc.buildbin-libdir && mkdir h5vc.buildbin-libdir && F:\biocbuild\bbs-3.18-bioc\R\bin\R.exe CMD INSTALL --build --library=h5vc.buildbin-libdir h5vc_2.36.0.tar.gz
StartedAt: 2024-03-28 07:10:33 -0400 (Thu, 28 Mar 2024)
EndedAt: 2024-03-28 07:11:10 -0400 (Thu, 28 Mar 2024)
EllapsedTime: 37.0 seconds
RetCode: 0
Status:   OK  
PackageFile: h5vc_2.36.0.zip
PackageFileSize: 5.45 MiB

Command output

##############################################################################
##############################################################################
###
### Running command:
###
###   rm -rf h5vc.buildbin-libdir && mkdir h5vc.buildbin-libdir && F:\biocbuild\bbs-3.18-bioc\R\bin\R.exe CMD INSTALL --build --library=h5vc.buildbin-libdir h5vc_2.36.0.tar.gz
###
##############################################################################
##############################################################################


* installing *source* package 'h5vc' ...
** using staged installation
** libs
using C compiler: 'gcc.exe (GCC) 12.3.0'
using C++ compiler: 'G__~1.EXE (GCC) 12.3.0'
gcc  -I"F:/biocbuild/bbs-3.18-bioc/R/include" -DNDEBUG -D_FILE_OFFSET_BITS=64 -I'F:/biocbuild/bbs-3.18-bioc/R/library/Rhtslib/include'   -I"C:/rtools43/x86_64-w64-mingw32.static.posix/include"     -O2 -Wall  -mfpmath=sse -msse2 -mstackrealign  -c bam_plbuf.c -o bam_plbuf.o
g++ -std=gnu++17  -I"F:/biocbuild/bbs-3.18-bioc/R/include" -DNDEBUG -D_FILE_OFFSET_BITS=64 -I'F:/biocbuild/bbs-3.18-bioc/R/library/Rhtslib/include'   -I"C:/rtools43/x86_64-w64-mingw32.static.posix/include"     -O2 -Wall  -mfpmath=sse -msse2 -mstackrealign  -c tallyBAM.cpp -o tallyBAM.o
tallyBAM.cpp: In function 'int pileup_func_old(uint32_t, hts_pos_t, int, const bam_pileup1_t*, void*)':
tallyBAM.cpp:47:7: warning: unused variable 'len' [-Wunused-variable]
   47 |   int len = nttable->end - nttable->beg;
      |       ^~~
tallyBAM.cpp: In function 'int pileup_func(uint32_t, hts_pos_t, int, const bam_pileup1_t*, void*)':
tallyBAM.cpp:96:7: warning: unused variable 'len' [-Wunused-variable]
   96 |   int len = nttable->end - nttable->beg;
      |       ^~~
tallyBAM.cpp: In function 'int _tallyBAM(char**, char**, int*, int*, int*, int*, int*, int*, int*, int*)':
tallyBAM.cpp:140:13: warning: unused variable 'c' [-Wunused-variable]
  140 |         int c = 0;
      |             ^
tallyBAM.cpp: At global scope:
tallyBAM.cpp:43:12: warning: 'int pileup_func_old(uint32_t, hts_pos_t, int, const bam_pileup1_t*, void*)' defined but not used [-Wunused-function]
   43 | static int pileup_func_old(uint32_t tid, hts_pos_t pos, int n, const bam_pileup1_t *pl, void *data)
      |            ^~~~~~~~~~~~~~~
g++ -std=gnu++17 -shared -s -static-libgcc -o h5vc.dll tmp.def bam_plbuf.o tallyBAM.o F:/biocbuild/bbs-3.18-bioc/R/library/Rhtslib/usrlib/x64/libhts.a -lz -lm -lbz2 -llzma -lcurl -lbcrypt -lidn2 -lunistring -liconv -lssl -lcrypto -lcrypt32 -lwsock32 -lwldap32 -lssh2 -lgcrypt -lgpg-error -lws2_32 -lzstd -lregex -LC:/rtools43/x86_64-w64-mingw32.static.posix/lib/x64 -LC:/rtools43/x86_64-w64-mingw32.static.posix/lib -LF:/biocbuild/bbs-3.18-bioc/R/bin/x64 -lR
installing to F:/biocbuild/bbs-3.18-bioc/meat/h5vc.buildbin-libdir/00LOCK-h5vc/00new/h5vc/libs/x64
** R
** data
** inst
** byte-compile and prepare package for lazy loading
Warning: replacing previous import 'Biostrings::pattern' by 'grid::pattern' when loading 'h5vc'
** help
*** installing help indices
** building package indices
** installing vignettes
** testing if installed package can be loaded from temporary location
Warning: replacing previous import 'Biostrings::pattern' by 'grid::pattern' when loading 'h5vc'
** testing if installed package can be loaded from final location
Warning: replacing previous import 'Biostrings::pattern' by 'grid::pattern' when loading 'h5vc'
** testing if installed package keeps a record of temporary installation path
* MD5 sums
packaged installation of 'h5vc' as h5vc_2.36.0.zip
* DONE (h5vc)