Back to Multiple platform build/check report for BioC 3.14
ABCDEF[G]HIJKLMNOPQRSTUVWXYZ

This page was generated on 2021-12-03 13:05:17 -0500 (Fri, 03 Dec 2021).

BUILD BIN results for gwascat on tokay2

To the developers/maintainers of the gwascat package:
- Please allow up to 24 hours (and sometimes 48 hours) for your latest push to git@git.bioconductor.org:packages/gwascat.git to
reflect on this report. See How and When does the builder pull? When will my changes propagate? here for more information.
- Make sure to use the following settings in order to reproduce any error or warning you see on this page.

raw results

Package 846/2083HostnameOS / ArchINSTALLBUILDCHECKBUILD BIN
gwascat 2.26.0  (landing page)
VJ Carey
Snapshot Date: 2021-12-02 01:55:06 -0500 (Thu, 02 Dec 2021)
git_url: https://git.bioconductor.org/packages/gwascat
git_branch: RELEASE_3_14
git_last_commit: 4098842
git_last_commit_date: 2021-10-26 12:02:07 -0500 (Tue, 26 Oct 2021)
nebbiolo2Linux (Ubuntu 20.04.3 LTS) / x86_64  OK    OK    OK  UNNEEDED, same version is already published
tokay2Windows Server 2012 R2 Standard / x64  OK    OK    OK    OK  UNNEEDED, same version is already published
machv2macOS 10.14.6 Mojave / x86_64  OK    OK    OK    OK  UNNEEDED, same version is already published

Summary

Package: gwascat
Version: 2.26.0
Command: rm -rf gwascat.buildbin-libdir && mkdir gwascat.buildbin-libdir && C:\Users\biocbuild\bbs-3.14-bioc\R\bin\R.exe CMD INSTALL --merge-multiarch --build --library=gwascat.buildbin-libdir gwascat_2.26.0.tar.gz
StartedAt: 2021-12-03 08:04:25 -0500 (Fri, 03 Dec 2021)
EndedAt: 2021-12-03 08:05:50 -0500 (Fri, 03 Dec 2021)
EllapsedTime: 85.2 seconds
RetCode: 0
Status:   OK  
PackageFile: gwascat_2.26.0.zip
PackageFileSize: 33.92 MiB

Command output

##############################################################################
##############################################################################
###
### Running command:
###
###   rm -rf gwascat.buildbin-libdir && mkdir gwascat.buildbin-libdir && C:\Users\biocbuild\bbs-3.14-bioc\R\bin\R.exe CMD INSTALL --merge-multiarch --build --library=gwascat.buildbin-libdir gwascat_2.26.0.tar.gz
###
##############################################################################
##############################################################################



install for i386

* installing *source* package 'gwascat' ...
** using staged installation
** R
** data
** inst
** byte-compile and prepare package for lazy loading
** help
*** installing help indices
  converting help for package 'gwascat'
    finding HTML links ... done
    bindcadd_snv                            html  
    chklocs                                 html  
    ebicat_2020_04_30                       html  
    g17SM                                   html  
    getRsids-gwaswloc-method                html  
    getRsids                                html  
    getTraits-gwaswloc-method               html  
    getTraits                               html  
    get_cached_gwascat                      html  
    gg17N                                   html  
    gr6.0_hg38                              html  
    gw6.rs_17                               html  
    gwascat_from_AHub                       html  
    gwastagger                              html  
    gwaswloc-class                          html  
    gwcat_snapshot                          html  
    gwcex2gviz                              html  
    ldtagr                                  html  
    locon6                                  html  
    locs4trait                              html  
    low17                                   html  
    makeCurrentGwascat                      html  
    obo2graphNEL                            html  
    process_gwas_dataframe                  html  
    riskyAlleleCount                        html  
    si.hs.37                                html  
    si.hs.38                                html  
    sub-gwaswloc-ANY-ANY-ANY-method         html  
    subsetByChromosome-gwaswloc-method      html  
    subsetByChromosome                      html  
    subsetByTraits-gwaswloc-method          html  
    subsetByTraits                          html  
    topTraits                               html  
    traitsManh                              html  
** building package indices
** installing vignettes
** testing if installed package can be loaded from temporary location
** testing if installed package can be loaded from final location
** testing if installed package keeps a record of temporary installation path

install for x64

* installing *source* package 'gwascat' ...
** testing if installed package can be loaded
* MD5 sums
packaged installation of 'gwascat' as gwascat_2.26.0.zip
* DONE (gwascat)