Index of /checkResults/release/bioc-LATEST/groHMM/raw-results
Name
Last modified
Size
Description
Parent Directory
-
info.dcf
12-May-2024 00:35
323
kunpeng2/
10-May-2024 00:40
-
lconway/
12-May-2024 00:37
-
merida1/
05-Mar-2024 01:39
-
nebbiolo1/
12-May-2024 00:36
-
palomino3/
12-May-2024 00:36
-