Name | Last modified | Size | Description | |
---|---|---|---|---|
Parent Directory | - | |||
buildsrc-out.txt | 07-May-2024 00:40 | 1.9K | ||
buildsrc-summary.dcf | 07-May-2024 00:40 | 346 | ||
checksrc-out.txt | 05-May-2024 00:40 | 4.3K | ||
checksrc-summary.dcf | 05-May-2024 00:40 | 459 | ||
install-out.txt | 07-May-2024 00:40 | 1.0K | ||
install-summary.dcf | 07-May-2024 00:40 | 272 | ||