Name | Last modified | Size | Description | |
---|---|---|---|---|
Parent Directory | - | |||
install-out.txt | 17-Jul-2024 06:39 | 3.0K | ||
install-summary.dcf | 17-Jul-2024 06:39 | 266 | ||
buildsrc-out.txt | 17-Jul-2024 06:39 | 903 | ||
buildsrc-summary.dcf | 17-Jul-2024 06:39 | 448 | ||
checksrc-out.txt | 17-Jul-2024 06:39 | 4.6K | ||
checksrc-summary.dcf | 17-Jul-2024 06:39 | 442 | ||
buildbin-out.txt | 17-Jul-2024 06:39 | 3.1K | ||
buildbin-summary.dcf | 17-Jul-2024 06:39 | 508 | ||