Name | Last modified | Size | Description | |
---|---|---|---|---|
Parent Directory | - | |||
buildbin-out.txt | 17-Jul-2024 06:41 | 7.1K | ||
checksrc-out.txt | 17-Jul-2024 06:41 | 4.6K | ||
install-out.txt | 17-Jul-2024 06:41 | 3.6K | ||
buildsrc-out.txt | 17-Jul-2024 06:41 | 882 | ||
buildbin-summary.dcf | 17-Jul-2024 06:41 | 523 | ||
checksrc-summary.dcf | 17-Jul-2024 06:41 | 446 | ||
buildsrc-summary.dcf | 17-Jul-2024 06:41 | 425 | ||
install-summary.dcf | 17-Jul-2024 06:41 | 267 | ||