Index of /checkResults/release/bioc-LATEST/granulator/raw-results
Name
Last modified
Size
Description
Parent Directory
-
merida1/
06-Jun-2023 00:05
-
nebbiolo1/
06-Jun-2023 00:04
-
palomino3/
06-Jun-2023 00:04
-
info.dcf
06-Jun-2023 00:05
285