Name | Last modified | Size | Description | |
---|---|---|---|---|
Parent Directory | - | |||
checksrc-out.txt | 19-Jun-2024 06:57 | 4.7K | ||
install-out.txt | 19-Jun-2024 06:57 | 954 | ||
buildsrc-out.txt | 19-Jun-2024 06:57 | 861 | ||
buildsrc-summary.dcf | 19-Jun-2024 06:57 | 412 | ||
checksrc-summary.dcf | 19-Jun-2024 06:57 | 406 | ||
install-summary.dcf | 19-Jun-2024 06:57 | 255 | ||