Name | Last modified | Size | Description | |
---|---|---|---|---|
Parent Directory | - | |||
install-summary.dcf | 17-Jul-2024 06:38 | 264 | ||
buildsrc-summary.dcf | 17-Jul-2024 06:38 | 425 | ||
checksrc-summary.dcf | 17-Jul-2024 06:38 | 425 | ||
buildsrc-out.txt | 17-Jul-2024 06:38 | 880 | ||
install-out.txt | 17-Jul-2024 06:38 | 961 | ||
checksrc-out.txt | 17-Jul-2024 06:38 | 3.5K | ||