Name | Last modified | Size | Description | |
---|---|---|---|---|
Parent Directory | - | |||
buildbin-summary.dcf | 17-Jul-2024 06:42 | 545 | ||
buildbin-out.txt | 17-Jul-2024 06:42 | 1.2K | ||
checksrc-summary.dcf | 17-Jul-2024 06:42 | 455 | ||
checksrc-out.txt | 17-Jul-2024 06:42 | 3.5K | ||
buildsrc-summary.dcf | 17-Jul-2024 06:42 | 435 | ||
buildsrc-out.txt | 17-Jul-2024 06:42 | 890 | ||
install-out.txt | 17-Jul-2024 06:42 | 1.0K | ||
install-summary.dcf | 17-Jul-2024 06:42 | 274 | ||