Name | Last modified | Size | Description | |
---|---|---|---|---|
Parent Directory | - | |||
install-out.txt | 27-Jul-2024 06:38 | 1.3M | ||
checksrc-out.txt | 27-Jul-2024 06:38 | 63K | ||
buildsrc-out.txt | 27-Jul-2024 06:38 | 828 | ||
checksrc-summary.dcf | 27-Jul-2024 06:38 | 412 | ||
buildsrc-summary.dcf | 27-Jul-2024 06:38 | 412 | ||
install-summary.dcf | 27-Jul-2024 06:38 | 256 | ||