Name | Last modified | Size | Description | |
---|---|---|---|---|
Parent Directory | - | |||
install-summary.dcf | 27-Jul-2024 06:40 | 266 | ||
install-out.txt | 27-Jul-2024 06:40 | 615K | ||
checksrc-summary.dcf | 27-Jul-2024 06:40 | 442 | ||
checksrc-out.txt | 27-Jul-2024 06:40 | 51K | ||
buildsrc-summary.dcf | 27-Jul-2024 06:40 | 422 | ||
buildsrc-out.txt | 27-Jul-2024 06:40 | 838 | ||
buildbin-summary.dcf | 27-Jul-2024 06:40 | 519 | ||
buildbin-out.txt | 27-Jul-2024 06:40 | 603K | ||