Name | Last modified | Size | Description | |
---|---|---|---|---|
Parent Directory | - | |||
buildbin-out.txt | 12-Jun-2024 03:43 | 609K | ||
buildbin-summary.dcf | 12-Jun-2024 03:43 | 519 | ||
checksrc-summary.dcf | 12-Jun-2024 03:43 | 442 | ||
checksrc-out.txt | 12-Jun-2024 03:43 | 55K | ||
buildsrc-summary.dcf | 12-Jun-2024 03:43 | 422 | ||
buildsrc-out.txt | 12-Jun-2024 03:43 | 838 | ||
install-out.txt | 12-Jun-2024 03:43 | 620K | ||
install-summary.dcf | 12-Jun-2024 03:43 | 266 | ||