Name | Last modified | Size | Description | |
---|---|---|---|---|
Parent Directory | - | |||
install-summary.dcf | 24-Jul-2024 22:07 | 266 | ||
install-out.txt | 24-Jul-2024 22:07 | 620K | ||
buildsrc-out.txt | 24-Jul-2024 22:07 | 838 | ||
buildsrc-summary.dcf | 24-Jul-2024 22:07 | 422 | ||
checksrc-summary.dcf | 24-Jul-2024 22:07 | 442 | ||
checksrc-out.txt | 24-Jul-2024 22:07 | 55K | ||
buildbin-summary.dcf | 24-Jul-2024 22:07 | 519 | ||
buildbin-out.txt | 24-Jul-2024 22:07 | 609K | ||