Index of /checkResults/release/bioc-LATEST/girafe/raw-results/palomino4

[ICO]NameLast modifiedSizeDescription

[DIR]Parent Directory  -  
[TXT]buildbin-out.txt03-Mar-2024 01:36 2.3K 
[   ]buildbin-summary.dcf03-Mar-2024 01:36 508  
[TXT]buildsrc-out.txt03-Mar-2024 01:36 866  
[   ]buildsrc-summary.dcf03-Mar-2024 01:36 448  
[TXT]checksrc-out.txt03-Mar-2024 01:36 8.1K 
[   ]checksrc-summary.dcf03-Mar-2024 01:36 443  
[TXT]install-out.txt03-Mar-2024 01:36 2.1K 
[   ]install-summary.dcf03-Mar-2024 01:36 266