Index of /checkResults/release/bioc-LATEST/girafe/raw-results/lconway

[ICO]NameLast modifiedSizeDescription

[DIR]Parent Directory  -  
[TXT]buildbin-out.txt02-Mar-2024 01:37 4.6K 
[   ]buildbin-summary.dcf02-Mar-2024 01:37 524  
[TXT]buildsrc-out.txt02-Mar-2024 01:37 842  
[   ]buildsrc-summary.dcf02-Mar-2024 01:37 423  
[TXT]checksrc-out.txt02-Mar-2024 01:37 7.9K 
[   ]checksrc-summary.dcf02-Mar-2024 01:37 440  
[TXT]install-out.txt02-Mar-2024 01:37 2.6K 
[   ]install-summary.dcf02-Mar-2024 01:37 267