Index of /checkResults/release/bioc-LATEST/girafe/raw-results/kunpeng2

[ICO]NameLast modifiedSizeDescription

[DIR]Parent Directory  -  
[TXT]buildsrc-out.txt03-Nov-2023 00:40 826  
[   ]buildsrc-summary.dcf03-Nov-2023 00:40 408  
[TXT]checksrc-out.txt03-Nov-2023 00:40 7.7K 
[   ]checksrc-summary.dcf03-Nov-2023 00:40 413  
[TXT]install-out.txt03-Nov-2023 00:40 2.0K 
[   ]install-summary.dcf03-Nov-2023 00:40 251