Index of /checkResults/release/bioc-LATEST/ggmsa/raw-results/nebbiolo2

[ICO]NameLast modifiedSizeDescription

[DIR]Parent Directory  -  
[TXT]buildsrc-out.txt30-Mar-2024 00:35 860  
[   ]buildsrc-summary.dcf30-Mar-2024 00:35 409  
[TXT]checksrc-out.txt30-Mar-2024 00:35 3.5K 
[   ]checksrc-summary.dcf30-Mar-2024 00:35 404  
[TXT]install-out.txt30-Mar-2024 00:35 1.0K 
[   ]install-summary.dcf30-Mar-2024 00:35 254