Index of /checkResults/release/bioc-LATEST/ggmanh/raw-results
Name
Last modified
Size
Description
Parent Directory
-
palomino3/
22-May-2024 00:36
-
nebbiolo1/
22-May-2024 00:36
-
merida1/
05-Mar-2024 01:39
-
lconway/
22-May-2024 00:38
-
kunpeng2/
10-May-2024 00:40
-
info.dcf
22-May-2024 00:35
266