Name | Last modified | Size | Description | |
---|---|---|---|---|
Parent Directory | - | |||
install-summary.dcf | 17-Jul-2024 06:39 | 264 | ||
install-out.txt | 17-Jul-2024 06:39 | 1.4K | ||
checksrc-summary.dcf | 17-Jul-2024 06:39 | 445 | ||
checksrc-out.txt | 17-Jul-2024 06:39 | 9.8K | ||
buildsrc-summary.dcf | 17-Jul-2024 06:39 | 445 | ||
buildsrc-out.txt | 17-Jul-2024 06:39 | 829 | ||
buildbin-summary.dcf | 17-Jul-2024 06:39 | 504 | ||
buildbin-out.txt | 17-Jul-2024 06:39 | 1.5K | ||