Name | Last modified | Size | Description | |
---|---|---|---|---|
Parent Directory | - | |||
checksrc-out.txt | 17-Jul-2024 06:38 | 9.5K | ||
install-out.txt | 17-Jul-2024 06:38 | 1.4K | ||
buildsrc-out.txt | 17-Jul-2024 06:38 | 798 | ||
checksrc-summary.dcf | 17-Jul-2024 06:38 | 412 | ||
buildsrc-summary.dcf | 17-Jul-2024 06:38 | 412 | ||
install-summary.dcf | 17-Jul-2024 06:38 | 255 | ||