Name | Last modified | Size | Description | |
---|---|---|---|---|
Parent Directory | - | |||
checksrc-out.txt | 28-May-2024 00:35 | 9.8K | ||
buildsrc-out.txt | 12-Jun-2024 03:42 | 5.0K | ||
buildbin-out.txt | 28-May-2024 00:35 | 1.6K | ||
install-out.txt | 12-Jun-2024 03:42 | 1.4K | ||
buildbin-summary.dcf | 28-May-2024 00:35 | 517 | ||
checksrc-summary.dcf | 28-May-2024 00:35 | 442 | ||
buildsrc-summary.dcf | 12-Jun-2024 03:42 | 340 | ||
install-summary.dcf | 12-Jun-2024 03:42 | 265 | ||