Name | Last modified | Size | Description | |
---|---|---|---|---|
Parent Directory | - | |||
install-summary.dcf | 24-Jul-2024 22:03 | 259 | ||
checksrc-summary.dcf | 24-Jul-2024 22:03 | 414 | ||
buildsrc-summary.dcf | 24-Jul-2024 22:03 | 418 | ||
buildsrc-out.txt | 24-Jul-2024 22:03 | 846 | ||
install-out.txt | 24-Jul-2024 22:03 | 952 | ||
checksrc-out.txt | 24-Jul-2024 22:03 | 4.0K | ||