Name | Last modified | Size | Description | |
---|---|---|---|---|
Parent Directory | - | |||
checksrc-out.txt | 12-Jun-2024 03:42 | 4.1K | ||
buildbin-out.txt | 12-Jun-2024 03:42 | 1.1K | ||
install-out.txt | 12-Jun-2024 03:42 | 1.0K | ||
buildsrc-out.txt | 12-Jun-2024 03:42 | 856 | ||
buildbin-summary.dcf | 12-Jun-2024 03:42 | 529 | ||
checksrc-summary.dcf | 12-Jun-2024 03:42 | 444 | ||
buildsrc-summary.dcf | 12-Jun-2024 03:42 | 427 | ||
install-summary.dcf | 12-Jun-2024 03:42 | 269 | ||