Name | Last modified | Size | Description | |
---|---|---|---|---|
Parent Directory | - | |||
buildsrc-out.txt | 10-May-2024 00:40 | 857 | ||
buildsrc-summary.dcf | 10-May-2024 00:40 | 429 | ||
checksrc-out.txt | 10-May-2024 00:40 | 4.1K | ||
checksrc-summary.dcf | 10-May-2024 00:40 | 451 | ||
install-out.txt | 10-May-2024 00:40 | 1.0K | ||
install-summary.dcf | 10-May-2024 00:40 | 270 | ||