Back to Multiple platform build/check report for BioC 3.12
ABCDEF[G]HIJKLMNOPQRSTUVWXYZ

Multiple platform build/check report for BioC 3.12

Results for package genoset

This page was generated on 2021-03-02 12:11:53 -0500 (Tue, 02 Mar 2021).

Package 723/1974HostnameOS / ArchINSTALLBUILDCHECKBUILD BIN
genoset 1.46.0
Peter M. Haverty
Snapshot Date: 2021-03-01 14:52:38 -0500 (Mon, 01 Mar 2021)
URL: https://git.bioconductor.org/packages/genoset
Branch: RELEASE_3_12
Last Commit: 74cd3c5
Last Changed Date: 2020-10-27 10:40:59 -0500 (Tue, 27 Oct 2020)
malbec1Linux (Ubuntu 18.04.5 LTS) / x86_64  OK    ERROR  skipped
nebbiolo1Linux (Ubuntu 20.04.2 LTS) / x86_64  OK    ERROR  skipped
tokay1Windows Server 2012 R2 Standard / x64  OK    ERROR  skippedskipped
merida1macOS 10.14.6 Mojave / x86_64  OK    ERROR  skippedskipped