Name | Last modified | Size | Description | |
---|---|---|---|---|
Parent Directory | - | |||
install-summary.dcf | 05-Mar-2024 01:39 | 269 | ||
buildsrc-summary.dcf | 05-Mar-2024 01:39 | 427 | ||
checksrc-summary.dcf | 05-Mar-2024 01:39 | 443 | ||
buildbin-summary.dcf | 05-Mar-2024 01:39 | 529 | ||
buildsrc-out.txt | 05-Mar-2024 01:39 | 816 | ||
install-out.txt | 05-Mar-2024 01:39 | 1.0K | ||
buildbin-out.txt | 05-Mar-2024 01:39 | 1.1K | ||
checksrc-out.txt | 05-Mar-2024 01:39 | 3.2K | ||