Name | Last modified | Size | Description | |
---|---|---|---|---|
Parent Directory | - | |||
checksrc-out.txt | 29-Jun-2024 06:41 | 5.8K | ||
buildbin-out.txt | 29-Jun-2024 06:41 | 2.3K | ||
install-out.txt | 29-Jun-2024 06:41 | 2.2K | ||
buildsrc-out.txt | 29-Jun-2024 06:41 | 1.3K | ||
buildbin-summary.dcf | 29-Jun-2024 06:41 | 533 | ||
checksrc-summary.dcf | 29-Jun-2024 06:41 | 465 | ||
buildsrc-summary.dcf | 29-Jun-2024 06:41 | 465 | ||
install-summary.dcf | 29-Jun-2024 06:41 | 274 | ||