Index of /checkResults/release/bioc-LATEST/genomation/raw-results/palomino3

[ICO]NameLast modifiedSizeDescription

[DIR]Parent Directory  -  
[TXT]buildbin-out.txt15-Jun-2024 03:38 2.3K 
[   ]buildbin-summary.dcf15-Jun-2024 03:38 533  
[TXT]buildsrc-out.txt15-Jun-2024 03:38 1.3K 
[   ]buildsrc-summary.dcf15-Jun-2024 03:38 465  
[TXT]checksrc-out.txt15-Jun-2024 03:38 5.8K 
[   ]checksrc-summary.dcf15-Jun-2024 03:38 465  
[TXT]install-out.txt15-Jun-2024 03:38 2.2K 
[   ]install-summary.dcf15-Jun-2024 03:38 274