Name | Last modified | Size | Description | |
---|---|---|---|---|
Parent Directory | - | |||
install-out.txt | 19-May-2024 00:37 | 4.2K | ||
install-summary.dcf | 19-May-2024 00:37 | 275 | ||
buildsrc-out.txt | 19-May-2024 00:37 | 858 | ||
buildsrc-summary.dcf | 19-May-2024 00:37 | 436 | ||
checksrc-summary.dcf | 19-May-2024 00:37 | 462 | ||
checksrc-out.txt | 19-May-2024 00:37 | 10K | ||
buildbin-out.txt | 19-May-2024 00:37 | 7.3K | ||
buildbin-summary.dcf | 19-May-2024 00:37 | 548 | ||