Name | Last modified | Size | Description | |
---|---|---|---|---|
Parent Directory | - | |||
checksrc-out.txt | 29-Jun-2024 06:41 | 7.1K | ||
buildbin-out.txt | 29-Jun-2024 06:41 | 2.2K | ||
install-out.txt | 29-Jun-2024 06:41 | 2.0K | ||
buildsrc-out.txt | 29-Jun-2024 06:41 | 901 | ||
buildbin-summary.dcf | 29-Jun-2024 06:41 | 551 | ||
buildsrc-summary.dcf | 29-Jun-2024 06:41 | 476 | ||
checksrc-summary.dcf | 29-Jun-2024 06:41 | 470 | ||
install-summary.dcf | 29-Jun-2024 06:41 | 280 | ||