Name | Last modified | Size | Description | |
---|---|---|---|---|
Parent Directory | - | |||
install-out.txt | 24-Jul-2024 22:06 | 1.9K | ||
install-summary.dcf | 24-Jul-2024 22:06 | 281 | ||
buildsrc-summary.dcf | 24-Jul-2024 22:06 | 445 | ||
buildsrc-out.txt | 24-Jul-2024 22:06 | 870 | ||
checksrc-summary.dcf | 24-Jul-2024 22:06 | 468 | ||
checksrc-out.txt | 24-Jul-2024 22:06 | 6.8K | ||
buildbin-out.txt | 24-Jul-2024 22:06 | 3.9K | ||
buildbin-summary.dcf | 24-Jul-2024 22:06 | 566 | ||