Name | Last modified | Size | Description | |
---|---|---|---|---|
Parent Directory | - | |||
install-out.txt | 10-May-2024 00:40 | 1.9K | ||
install-summary.dcf | 10-May-2024 00:40 | 282 | ||
buildsrc-out.txt | 10-May-2024 00:40 | 871 | ||
buildsrc-summary.dcf | 10-May-2024 00:40 | 446 | ||
checksrc-out.txt | 10-May-2024 00:40 | 6.7K | ||
checksrc-summary.dcf | 10-May-2024 00:40 | 474 | ||