Name | Last modified | Size | Description | |
---|---|---|---|---|
Parent Directory | - | |||
buildbin-out.txt | 27-Jul-2024 06:40 | 3.9K | ||
buildbin-summary.dcf | 27-Jul-2024 06:40 | 518 | ||
buildsrc-out.txt | 27-Jul-2024 06:40 | 901 | ||
buildsrc-summary.dcf | 27-Jul-2024 06:40 | 421 | ||
checksrc-out.txt | 27-Jul-2024 06:40 | 4.4K | ||
checksrc-summary.dcf | 27-Jul-2024 06:40 | 436 | ||
install-out.txt | 27-Jul-2024 06:40 | 2.1K | ||
install-summary.dcf | 27-Jul-2024 06:40 | 265 | ||