Name | Last modified | Size | Description | |
---|---|---|---|---|
Parent Directory | - | |||
buildsrc-out.txt | 10-May-2024 00:40 | 902 | ||
buildsrc-summary.dcf | 10-May-2024 00:40 | 422 | ||
checksrc-out.txt | 10-May-2024 00:40 | 4.4K | ||
checksrc-summary.dcf | 10-May-2024 00:40 | 443 | ||
install-out.txt | 10-May-2024 00:40 | 1.8K | ||
install-summary.dcf | 10-May-2024 00:40 | 266 | ||