Index of /checkResults/release/bioc-LATEST/gatom/raw-results/nebbiolo1

[ICO]NameLast modifiedSizeDescription

[DIR]Parent Directory  -  
[TXT]buildsrc-out.txt20-Jul-2024 06:37 862  
[   ]buildsrc-summary.dcf20-Jul-2024 06:37 327  
[TXT]checksrc-out.txt03-Jul-2024 23:19 8.1K 
[   ]checksrc-summary.dcf03-Jul-2024 23:19 404  
[TXT]install-out.txt20-Jul-2024 06:37 627  
[   ]install-summary.dcf20-Jul-2024 06:37 256