Index of /checkResults/release/bioc-LATEST/gatom/raw-results/merida1

[ICO]NameLast modifiedSizeDescription

[DIR]Parent Directory  -  
[TXT]buildbin-out.txt05-Mar-2024 01:39 1.2K 
[   ]buildbin-summary.dcf05-Mar-2024 01:39 515  
[TXT]buildsrc-out.txt20-Jul-2024 06:39 879  
[   ]buildsrc-summary.dcf20-Jul-2024 06:39 337  
[TXT]checksrc-out.txt05-Mar-2024 01:39 8.2K 
[   ]checksrc-summary.dcf05-Mar-2024 01:39 434  
[TXT]install-out.txt20-Jul-2024 06:39 687  
[   ]install-summary.dcf20-Jul-2024 06:39 266