Back to Multiple platform build/check report for BioC 3.12 |
|
This page was generated on 2021-02-22 12:42:46 -0500 (Mon, 22 Feb 2021).
To the developers/maintainers of the gaggle package: Please make sure to use the following settings in order to reproduce any error or warning you see on this page. |
Package 660/1974 | Hostname | OS / Arch | INSTALL | BUILD | CHECK | BUILD BIN | ||||||||
gaggle 1.58.0 Christopher Bare
| malbec1 | Linux (Ubuntu 18.04.5 LTS) / x86_64 | OK | OK | OK | ![]() | ||||||||
nebbiolo1 | Linux (Ubuntu 20.04.2 LTS) / x86_64 | OK | OK | OK | ||||||||||
tokay1 | Windows Server 2012 R2 Standard / x64 | OK | OK | OK | OK | ![]() | ||||||||
merida1 | macOS 10.14.6 Mojave / x86_64 | OK | OK | OK | OK | ![]() | ||||||||
Package: gaggle |
Version: 1.58.0 |
Command: /Library/Frameworks/R.framework/Versions/Current/Resources/bin/R CMD build --keep-empty-dirs --no-resave-data gaggle |
StartedAt: 2021-02-21 19:36:35 -0500 (Sun, 21 Feb 2021) |
EndedAt: 2021-02-21 19:36:47 -0500 (Sun, 21 Feb 2021) |
EllapsedTime: 11.4 seconds |
RetCode: 0 |
Status: OK |
PackageFile: gaggle_1.58.0.tar.gz |
PackageFileSize: 307.4 KiB |
############################################################################## ############################################################################## ### ### Running command: ### ### /Library/Frameworks/R.framework/Versions/Current/Resources/bin/R CMD build --keep-empty-dirs --no-resave-data gaggle ### ############################################################################## ############################################################################## * checking for file ‘gaggle/DESCRIPTION’ ... OK * preparing ‘gaggle’: * checking DESCRIPTION meta-information ... OK * installing the package to build vignettes * creating vignettes ... OK * checking for LF line-endings in source and make files and shell scripts * checking for empty or unneeded directories * building ‘gaggle_1.58.0.tar.gz’