Back to Multiple platform build/check report for BioC 3.12
ABCDEF[G]HIJKLMNOPQRSTUVWXYZ

INSTALL report for gaggle on malbec1

This page was generated on 2021-02-22 12:29:49 -0500 (Mon, 22 Feb 2021).

To the developers/maintainers of the gaggle package:
Please make sure to use the following settings in order to reproduce any error or warning you see on this page.
Package 660/1974HostnameOS / ArchINSTALLBUILDCHECKBUILD BIN
gaggle 1.58.0
Christopher Bare
Snapshot Date: 2021-02-21 14:52:07 -0500 (Sun, 21 Feb 2021)
URL: https://git.bioconductor.org/packages/gaggle
Branch: RELEASE_3_12
Last Commit: 6f6cb16
Last Changed Date: 2020-10-27 10:28:46 -0500 (Tue, 27 Oct 2020)
malbec1Linux (Ubuntu 18.04.5 LTS) / x86_64  OK    OK    OK  UNNEEDED, same version exists in internal repository
nebbiolo1Linux (Ubuntu 20.04.2 LTS) / x86_64  OK    OK    OK  
tokay1Windows Server 2012 R2 Standard / x64  OK    OK    OK    OK  UNNEEDED, same version exists in internal repository
merida1macOS 10.14.6 Mojave / x86_64  OK    OK    OK    OK  UNNEEDED, same version exists in internal repository

Summary

Package: gaggle
Version: 1.58.0
Command: /home/biocbuild/bbs-3.12-bioc/R/bin/R CMD INSTALL gaggle
StartedAt: 2021-02-21 16:15:25 -0500 (Sun, 21 Feb 2021)
EndedAt: 2021-02-21 16:15:34 -0500 (Sun, 21 Feb 2021)
EllapsedTime: 8.5 seconds
RetCode: 0
Status:   OK  

Command output

##############################################################################
##############################################################################
###
### Running command:
###
###   /home/biocbuild/bbs-3.12-bioc/R/bin/R CMD INSTALL gaggle
###
##############################################################################
##############################################################################


* installing to library ‘/home/biocbuild/bbs-3.12-bioc/R/library’
* installing *source* package ‘gaggle’ ...
** using staged installation
** R
** inst
** byte-compile and prepare package for lazy loading
** help
*** installing help indices
** building package indices
** installing vignettes
** testing if installed package can be loaded from temporary location

onLoad -- libname: /home/biocbuild/bbs-3.12-bioc/R/library/00LOCK-gaggle/00new pkgname: gaggle 
path to jar: /home/biocbuild/bbs-3.12-bioc/R/library/00LOCK-gaggle/00new/gaggle/jars/gaggleRShell.jar 
      script:  gaggle.R $Revision: 4499 $   $Date: 2010-08-10 17:15:03 -0700 (Tue, 10 Aug 2010) $ 
  os version:  Linux 
 jvm version:  1.8.0_282 

   You are using the wrong version of Java.
   Please see http://gaggle.systemsbiology.org/docs/html/java

** testing if installed package can be loaded from final location

onLoad -- libname: /home/biocbuild/bbs-3.12-bioc/R/library pkgname: gaggle 
path to jar: /home/biocbuild/bbs-3.12-bioc/R/library/gaggle/jars/gaggleRShell.jar 
      script:  gaggle.R $Revision: 4499 $   $Date: 2010-08-10 17:15:03 -0700 (Tue, 10 Aug 2010) $ 
  os version:  Linux 
 jvm version:  1.8.0_282 

   You are using the wrong version of Java.
   Please see http://gaggle.systemsbiology.org/docs/html/java

** testing if installed package keeps a record of temporary installation path
* DONE (gaggle)