Index of /checkResults/release/bioc-LATEST/gDRcore/raw-results/merida1

[ICO]NameLast modifiedSizeDescription

[DIR]Parent Directory  -  
[TXT]buildbin-out.txt20-Jul-2024 06:39 3.8K 
[   ]buildbin-summary.dcf20-Jul-2024 06:39 527  
[TXT]buildsrc-out.txt20-Jul-2024 06:39 845  
[   ]buildsrc-summary.dcf20-Jul-2024 06:39 426  
[TXT]checksrc-out.txt20-Jul-2024 06:39 3.9K 
[   ]checksrc-summary.dcf20-Jul-2024 06:39 442  
[TXT]install-out.txt20-Jul-2024 06:39 1.7K 
[   ]install-summary.dcf20-Jul-2024 06:39 268