Back to Multiple platform build/check report for BioC 3.19:   simplified   long
ABCDEF[G]HIJKLMNOPQRSTUVWXYZ

This page was generated on 2024-07-19 17:41 -0400 (Fri, 19 Jul 2024).

HostnameOSArch (*)R versionInstalled pkgs
nebbiolo1Linux (Ubuntu 22.04.3 LTS)x86_644.4.1 (2024-06-14) -- "Race for Your Life" 4742
palomino7Windows Server 2022 Datacenterx644.4.1 (2024-06-14 ucrt) -- "Race for Your Life" 4484
merida1macOS 12.7.5 Montereyx86_644.4.1 (2024-06-14) -- "Race for Your Life" 4513
kjohnson1macOS 13.6.6 Venturaarm644.4.1 (2024-06-14) -- "Race for Your Life" 4462
Click on any hostname to see more info about the system (e.g. compilers)      (*) as reported by 'uname -p', except on Windows and Mac OS X

Package 788/2300HostnameOS / ArchINSTALLBUILDCHECKBUILD BIN
gDRcore 1.2.0  (landing page)
Arkadiusz Gladki
Snapshot Date: 2024-07-17 14:00 -0400 (Wed, 17 Jul 2024)
git_url: https://git.bioconductor.org/packages/gDRcore
git_branch: RELEASE_3_19
git_last_commit: 8b5ff22
git_last_commit_date: 2024-04-30 11:50:21 -0400 (Tue, 30 Apr 2024)
nebbiolo1Linux (Ubuntu 22.04.3 LTS) / x86_64  OK    OK    OK  UNNEEDED, same version is already published
palomino7Windows Server 2022 Datacenter / x64  OK    OK    OK    OK  
merida1macOS 12.7.5 Monterey / x86_64  OK    OK    OK    OK  UNNEEDED, same version is already published
kjohnson1macOS 13.6.6 Ventura / arm64  OK    OK    OK    OK  UNNEEDED, same version is already published


CHECK results for gDRcore on kjohnson1

To the developers/maintainers of the gDRcore package:
- Allow up to 24 hours (and sometimes 48 hours) for your latest push to git@git.bioconductor.org:packages/gDRcore.git to reflect on this report. See Troubleshooting Build Report for more information.
- Use the following Renviron settings to reproduce errors and warnings.
- If 'R CMD check' started to fail recently on the Linux builder(s) over a missing dependency, add the missing dependency to 'Suggests:' in your DESCRIPTION file. See Renviron.bioc for more information.

raw results


Summary

Package: gDRcore
Version: 1.2.0
Command: /Library/Frameworks/R.framework/Resources/bin/R CMD check --install=check:gDRcore.install-out.txt --library=/Library/Frameworks/R.framework/Resources/library --no-vignettes --timings gDRcore_1.2.0.tar.gz
StartedAt: 2024-07-18 21:24:58 -0400 (Thu, 18 Jul 2024)
EndedAt: 2024-07-18 21:31:10 -0400 (Thu, 18 Jul 2024)
EllapsedTime: 371.3 seconds
RetCode: 0
Status:   OK  
CheckDir: gDRcore.Rcheck
Warnings: 0

Command output

##############################################################################
##############################################################################
###
### Running command:
###
###   /Library/Frameworks/R.framework/Resources/bin/R CMD check --install=check:gDRcore.install-out.txt --library=/Library/Frameworks/R.framework/Resources/library --no-vignettes --timings gDRcore_1.2.0.tar.gz
###
##############################################################################
##############################################################################


* using log directory ‘/Users/biocbuild/bbs-3.19-bioc/meat/gDRcore.Rcheck’
* using R version 4.4.1 (2024-06-14)
* using platform: aarch64-apple-darwin20
* R was compiled by
    Apple clang version 14.0.0 (clang-1400.0.29.202)
    GNU Fortran (GCC) 12.2.0
* running under: macOS Ventura 13.6.6
* using session charset: UTF-8
* using option ‘--no-vignettes’
* checking for file ‘gDRcore/DESCRIPTION’ ... OK
* checking extension type ... Package
* this is package ‘gDRcore’ version ‘1.2.0’
* package encoding: UTF-8
* checking package namespace information ... OK
* checking package dependencies ... OK
* checking if this is a source package ... OK
* checking if there is a namespace ... OK
* checking for hidden files and directories ... OK
* checking for portable file names ... OK
* checking for sufficient/correct file permissions ... OK
* checking whether package ‘gDRcore’ can be installed ... OK
* used C++ compiler: ‘Apple clang version 15.0.0 (clang-1500.0.40.1)’
* used SDK: ‘MacOSX11.3.sdk’
* checking installed package size ... OK
* checking package directory ... OK
* checking ‘build’ directory ... OK
* checking DESCRIPTION meta-information ... OK
* checking top-level files ... OK
* checking for left-over files ... OK
* checking index information ... OK
* checking package subdirectories ... OK
* checking code files for non-ASCII characters ... OK
* checking R files for syntax errors ... OK
* checking whether the package can be loaded ... OK
* checking whether the package can be loaded with stated dependencies ... OK
* checking whether the package can be unloaded cleanly ... OK
* checking whether the namespace can be loaded with stated dependencies ... OK
* checking whether the namespace can be unloaded cleanly ... OK
* checking whether startup messages can be suppressed ... OK
* checking dependencies in R code ... OK
* checking S3 generic/method consistency ... OK
* checking replacement functions ... OK
* checking foreign function calls ... OK
* checking R code for possible problems ... OK
* checking Rd files ... OK
* checking Rd metadata ... OK
* checking Rd cross-references ... OK
* checking for missing documentation entries ... OK
* checking for code/documentation mismatches ... OK
* checking Rd \usage sections ... OK
* checking Rd contents ... OK
* checking for unstated dependencies in examples ... OK
* checking line endings in C/C++/Fortran sources/headers ... OK
* checking compiled code ... NOTE
Note: information on .o files is not available
* checking files in ‘vignettes’ ... OK
* checking examples ... OK
Examples with CPU (user + system) or elapsed time > 5s
                                        user system elapsed
runDrugResponseProcessingPipelineFxns 18.518  0.784  19.759
add_CellLine_annotation                6.013  0.265   6.384
* checking for unstated dependencies in ‘tests’ ... OK
* checking tests ...
  Running ‘testthat.R’
 OK
* checking for unstated dependencies in vignettes ... OK
* checking package vignettes ... OK
* checking running R code from vignettes ... SKIPPED
* checking re-building of vignette outputs ... SKIPPED
* checking PDF version of manual ... OK
* DONE

Status: 1 NOTE
See
  ‘/Users/biocbuild/bbs-3.19-bioc/meat/gDRcore.Rcheck/00check.log’
for details.


Installation output

gDRcore.Rcheck/00install.out

##############################################################################
##############################################################################
###
### Running command:
###
###   /Library/Frameworks/R.framework/Resources/bin/R CMD INSTALL gDRcore
###
##############################################################################
##############################################################################


* installing to library ‘/Library/Frameworks/R.framework/Versions/4.4-arm64/Resources/library’
* installing *source* package ‘gDRcore’ ...
** using staged installation
** libs
using C++ compiler: ‘Apple clang version 15.0.0 (clang-1500.0.40.1)’
using SDK: ‘MacOSX11.3.sdk’
clang++ -arch arm64 -std=gnu++17 -I"/Library/Frameworks/R.framework/Resources/include" -DNDEBUG   -I/opt/R/arm64/include    -fPIC  -falign-functions=64 -Wall -g -O2   -c gDRcore.cpp -o gDRcore.o
clang++ -arch arm64 -std=gnu++17 -dynamiclib -Wl,-headerpad_max_install_names -undefined dynamic_lookup -L/Library/Frameworks/R.framework/Resources/lib -L/opt/R/arm64/lib -o gDRcore.so gDRcore.o -F/Library/Frameworks/R.framework/.. -framework R -Wl,-framework -Wl,CoreFoundation
installing to /Library/Frameworks/R.framework/Versions/4.4-arm64/Resources/library/00LOCK-gDRcore/00new/gDRcore/libs
** R
** inst
** byte-compile and prepare package for lazy loading
** help
*** installing help indices
** building package indices
** installing vignettes
** testing if installed package can be loaded from temporary location
** checking absolute paths in shared objects and dynamic libraries
** testing if installed package can be loaded from final location
** testing if installed package keeps a record of temporary installation path
* DONE (gDRcore)

Tests output

gDRcore.Rcheck/tests/testthat.Rout


R version 4.4.1 (2024-06-14) -- "Race for Your Life"
Copyright (C) 2024 The R Foundation for Statistical Computing
Platform: aarch64-apple-darwin20

R is free software and comes with ABSOLUTELY NO WARRANTY.
You are welcome to redistribute it under certain conditions.
Type 'license()' or 'licence()' for distribution details.

R is a collaborative project with many contributors.
Type 'contributors()' for more information and
'citation()' on how to cite R or R packages in publications.

Type 'demo()' for some demos, 'help()' for on-line help, or
'help.start()' for an HTML browser interface to help.
Type 'q()' to quit R.

> library("gDRcore")
> library("testthat")
> 
> test_check("gDRcore")
INFO [2024-07-18 21:26:59] Merge with Cell line info
INFO [2024-07-18 21:26:59] Merge with Cell line info
INFO [2024-07-18 21:30:31] 
INFO [2024-07-18 21:30:49] Manifest loaded successfully
INFO [2024-07-18 21:30:49] Reading Template_7daytreated.xlsx with load_templates_xlsx
INFO [2024-07-18 21:30:49] Loading Template_7daytreated.xlsx
INFO [2024-07-18 21:30:49] Loading Template_Untreated.xlsx
INFO [2024-07-18 21:30:49] Templates loaded successfully!
INFO [2024-07-18 21:30:49] Reading file /Library/Frameworks/R.framework/Versions/4.4-arm64/Resources/library/gDRimport/extdata/data1/RawData_day0.xlsx, sheet Readout_0077vs0068_day7
INFO [2024-07-18 21:30:49] Plate 201904190a read; 384 wells
INFO [2024-07-18 21:30:49] Plate 201904190b read; 384 wells
INFO [2024-07-18 21:30:49] Plate 201904190c read; 384 wells
INFO [2024-07-18 21:30:49] Plate 201904190d read; 384 wells
INFO [2024-07-18 21:30:49] Plate 201904190e read; 384 wells
INFO [2024-07-18 21:30:49] Plate 201904190f read; 384 wells
INFO [2024-07-18 21:30:49] File done
INFO [2024-07-18 21:30:49] Reading file /Library/Frameworks/R.framework/Versions/4.4-arm64/Resources/library/gDRimport/extdata/data1/RawData_day7.xlsx, sheet Readout_0077vs0068_day7
INFO [2024-07-18 21:30:50] Plate 201904197a read; 384 wells
INFO [2024-07-18 21:30:50] Plate 201904197b read; 384 wells
INFO [2024-07-18 21:30:50] Plate 201904197c read; 384 wells
INFO [2024-07-18 21:30:50] Plate 201904197d read; 384 wells
INFO [2024-07-18 21:30:50] Plate 201904197e read; 384 wells
INFO [2024-07-18 21:30:50] Plate 201904197f read; 384 wells
INFO [2024-07-18 21:30:50] File done
INFO [2024-07-18 21:30:50] Manifest loaded successfully
INFO [2024-07-18 21:30:50] Reading Template_7daytreated.xlsx with load_templates_xlsx
INFO [2024-07-18 21:30:50] Loading Template_7daytreated.xlsx
INFO [2024-07-18 21:30:50] Loading Template_Untreated.xlsx
INFO [2024-07-18 21:30:50] Templates loaded successfully!
INFO [2024-07-18 21:30:50] Reading file /Library/Frameworks/R.framework/Versions/4.4-arm64/Resources/library/gDRimport/extdata/data1/RawData_day0.xlsx, sheet Readout_0077vs0068_day7
INFO [2024-07-18 21:30:51] Plate 201904190a read; 384 wells
INFO [2024-07-18 21:30:51] Plate 201904190b read; 384 wells
INFO [2024-07-18 21:30:51] Plate 201904190c read; 384 wells
INFO [2024-07-18 21:30:51] Plate 201904190d read; 384 wells
INFO [2024-07-18 21:30:51] Plate 201904190e read; 384 wells
INFO [2024-07-18 21:30:51] Plate 201904190f read; 384 wells
INFO [2024-07-18 21:30:51] File done
INFO [2024-07-18 21:30:51] Reading file /Library/Frameworks/R.framework/Versions/4.4-arm64/Resources/library/gDRimport/extdata/data1/RawData_day7.xlsx, sheet Readout_0077vs0068_day7
INFO [2024-07-18 21:30:51] Plate 201904197a read; 384 wells
INFO [2024-07-18 21:30:51] Plate 201904197b read; 384 wells
INFO [2024-07-18 21:30:51] Plate 201904197c read; 384 wells
INFO [2024-07-18 21:30:51] Plate 201904197d read; 384 wells
INFO [2024-07-18 21:30:51] Plate 201904197e read; 384 wells
INFO [2024-07-18 21:30:51] Plate 201904197f read; 384 wells
INFO [2024-07-18 21:30:51] File done
[ FAIL 0 | WARN 0 | SKIP 0 | PASS 197 ]
> 
> proc.time()
   user  system elapsed 
240.419   3.785 249.430 

Example timings

gDRcore.Rcheck/gDRcore-Ex.timings

nameusersystemelapsed
add_CellLine_annotation6.0130.2656.384
add_Drug_annotation0.9910.0961.106
calculate_GR_value0.0030.0010.004
calculate_excess0.0810.0010.082
calculate_matrix_metric0.0230.0060.030
cleanup_metadata0.0540.1240.185
convert_mae_to_raw_data2.2150.0742.326
convert_se_to_raw_data0.0970.0040.101
data_model0.0010.0000.001
dot-standardize_conc0.0020.0000.004
fit_SE.combinations3.3710.0933.549
get_default_nested_identifiers0.0010.0000.001
grr_matches0.0150.0020.017
identify_data_type0.0500.0040.053
identify_keys0.1230.0110.135
map_conc_to_standardized_conc0.0040.0010.005
map_df0.1220.0110.137
map_ids_to_fits0.0020.0000.002
merge_data1.5890.2381.852
prepare_input1.4080.2001.640
remove_drug_batch000
replace_conc_with_standardized_conc0.0020.0000.001
round_concentration000
runDrugResponseProcessingPipelineFxns18.518 0.78419.759
split_raw_data0.2760.0100.291
test_synthetic_data0.9380.0230.988