Name | Last modified | Size | Description | |
---|---|---|---|---|
Parent Directory | - | |||
install-summary.dcf | 24-Jul-2024 22:07 | 279 | ||
install-out.txt | 24-Jul-2024 22:07 | 1.0K | ||
buildsrc-summary.dcf | 24-Jul-2024 22:07 | 443 | ||
buildsrc-out.txt | 24-Jul-2024 22:07 | 899 | ||
checksrc-out.txt | 24-Jul-2024 22:07 | 4.5K | ||
checksrc-summary.dcf | 24-Jul-2024 22:07 | 464 | ||
buildbin-out.txt | 24-Jul-2024 22:07 | 1.2K | ||
buildbin-summary.dcf | 24-Jul-2024 22:07 | 560 | ||