Back to Multiple platform build/check report for BioC 3.16:   simplified   long
ABCDEF[G]HIJKLMNOPQRSTUVWXYZ

This page was generated on 2023-03-17 11:05:24 -0400 (Fri, 17 Mar 2023).

HostnameOSArch (*)R versionInstalled pkgs
nebbiolo2Linux (Ubuntu 20.04.5 LTS)x86_644.2.2 (2022-10-31) -- "Innocent and Trusting" 4516
palomino4Windows Server 2022 Datacenterx644.2.2 (2022-10-31 ucrt) -- "Innocent and Trusting" 4295
lconwaymacOS 12.5.1 Montereyx86_644.2.2 (2022-10-31) -- "Innocent and Trusting" 4324
Click on any hostname to see more info about the system (e.g. compilers)      (*) as reported by 'uname -p', except on Windows and Mac OS X

CHECK results for gCrisprTools on nebbiolo2


To the developers/maintainers of the gCrisprTools package:
- Please allow up to 24 hours (and sometimes 48 hours) for your latest push to git@git.bioconductor.org:packages/gCrisprTools.git to
reflect on this report. See How and When does the builder pull? When will my changes propagate? for more information.
- Make sure to use the following settings in order to reproduce any error or warning you see on this page.

raw results

Package 740/2183HostnameOS / ArchINSTALLBUILDCHECKBUILD BIN
gCrisprTools 2.4.0  (landing page)
Russell Bainer
Snapshot Date: 2023-03-15 14:00:04 -0400 (Wed, 15 Mar 2023)
git_url: https://git.bioconductor.org/packages/gCrisprTools
git_branch: RELEASE_3_16
git_last_commit: 154bc8e
git_last_commit_date: 2022-11-01 11:14:23 -0400 (Tue, 01 Nov 2022)
nebbiolo2Linux (Ubuntu 20.04.5 LTS) / x86_64  OK    OK    OK  UNNEEDED, same version is already published
palomino4Windows Server 2022 Datacenter / x64  OK    OK    OK    OK  UNNEEDED, same version is already published
lconwaymacOS 12.5.1 Monterey / x86_64  OK    OK    OK    OK  UNNEEDED, same version is already published

Summary

Package: gCrisprTools
Version: 2.4.0
Command: /home/biocbuild/bbs-3.16-bioc/R/bin/R CMD check --install=check:gCrisprTools.install-out.txt --library=/home/biocbuild/bbs-3.16-bioc/R/library --timings gCrisprTools_2.4.0.tar.gz
StartedAt: 2023-03-15 20:42:13 -0400 (Wed, 15 Mar 2023)
EndedAt: 2023-03-15 20:50:04 -0400 (Wed, 15 Mar 2023)
EllapsedTime: 471.0 seconds
RetCode: 0
Status:   OK  
CheckDir: gCrisprTools.Rcheck
Warnings: 0

Command output

##############################################################################
##############################################################################
###
### Running command:
###
###   /home/biocbuild/bbs-3.16-bioc/R/bin/R CMD check --install=check:gCrisprTools.install-out.txt --library=/home/biocbuild/bbs-3.16-bioc/R/library --timings gCrisprTools_2.4.0.tar.gz
###
##############################################################################
##############################################################################


* using log directory ‘/home/biocbuild/bbs-3.16-bioc/meat/gCrisprTools.Rcheck’
* using R version 4.2.2 (2022-10-31)
* using platform: x86_64-pc-linux-gnu (64-bit)
* using session charset: UTF-8
* checking for file ‘gCrisprTools/DESCRIPTION’ ... OK
* checking extension type ... Package
* this is package ‘gCrisprTools’ version ‘2.4.0’
* package encoding: UTF-8
* checking package namespace information ... OK
* checking package dependencies ... OK
* checking if this is a source package ... OK
* checking if there is a namespace ... OK
* checking for hidden files and directories ... OK
* checking for portable file names ... OK
* checking for sufficient/correct file permissions ... OK
* checking whether package ‘gCrisprTools’ can be installed ... OK
* checking installed package size ... OK
* checking package directory ... OK
* checking ‘build’ directory ... OK
* checking DESCRIPTION meta-information ... OK
* checking top-level files ... OK
* checking for left-over files ... OK
* checking index information ... OK
* checking package subdirectories ... OK
* checking R files for non-ASCII characters ... OK
* checking R files for syntax errors ... OK
* checking whether the package can be loaded ... OK
* checking whether the package can be loaded with stated dependencies ... OK
* checking whether the package can be unloaded cleanly ... OK
* checking whether the namespace can be loaded with stated dependencies ... OK
* checking whether the namespace can be unloaded cleanly ... OK
* checking dependencies in R code ... NOTE
Namespace in Imports field not imported from: ‘RobustRankAggreg’
  All declared Imports should be used.
* checking S3 generic/method consistency ... OK
* checking replacement functions ... OK
* checking foreign function calls ... OK
* checking R code for possible problems ... OK
* checking Rd files ... OK
* checking Rd metadata ... OK
* checking Rd cross-references ... OK
* checking for missing documentation entries ... OK
* checking for code/documentation mismatches ... OK
* checking Rd \usage sections ... OK
* checking Rd contents ... OK
* checking for unstated dependencies in examples ... OK
* checking contents of ‘data’ directory ... OK
* checking data for non-ASCII characters ... OK
* checking data for ASCII and uncompressed saves ... OK
* checking files in ‘vignettes’ ... OK
* checking examples ... OK
Examples with CPU (user + system) or elapsed time > 5s
                        user system elapsed
ct.GREATdb            25.891  1.492  27.032
ct.makeReport         17.852  0.167  18.021
ct.makeContrastReport  9.455  0.142   9.607
ct.guideCDF            8.942  0.224   9.167
ct.compareContrasts    7.746  0.316   8.062
ct.seas                6.626  1.203   6.310
ct.upSet               7.093  0.100   7.193
ct.GCbias              6.383  0.244   6.628
ct.contrastBarchart    5.617  0.004   5.621
ct.makeQCReport        5.280  0.074   5.361
* checking for unstated dependencies in ‘tests’ ... OK
* checking tests ...
  Running ‘unit.tests.R’
 OK
* checking for unstated dependencies in vignettes ... OK
* checking package vignettes in ‘inst/doc’ ... OK
* checking running R code from vignettes ...
  ‘Contrast_Comparisons.Rmd’ using ‘UTF-8’... OK
  ‘Crispr_example_workflow.Rmd’ using ‘UTF-8’... OK
  ‘gCrisprTools_Vignette.Rmd’ using ‘UTF-8’... OK
 NONE
* checking re-building of vignette outputs ... OK
* checking PDF version of manual ... OK
* DONE

Status: 1 NOTE
See
  ‘/home/biocbuild/bbs-3.16-bioc/meat/gCrisprTools.Rcheck/00check.log’
for details.



Installation output

gCrisprTools.Rcheck/00install.out

##############################################################################
##############################################################################
###
### Running command:
###
###   /home/biocbuild/bbs-3.16-bioc/R/bin/R CMD INSTALL gCrisprTools
###
##############################################################################
##############################################################################


* installing to library ‘/home/biocbuild/bbs-3.16-bioc/R/library’
* installing *source* package ‘gCrisprTools’ ...
** using staged installation
** R
** data
** inst
** byte-compile and prepare package for lazy loading
** help
*** installing help indices
** building package indices
** installing vignettes
** testing if installed package can be loaded from temporary location
** testing if installed package can be loaded from final location
** testing if installed package keeps a record of temporary installation path
* DONE (gCrisprTools)

Tests output

gCrisprTools.Rcheck/tests/unit.tests.Rout


R version 4.2.2 (2022-10-31) -- "Innocent and Trusting"
Copyright (C) 2022 The R Foundation for Statistical Computing
Platform: x86_64-pc-linux-gnu (64-bit)

R is free software and comes with ABSOLUTELY NO WARRANTY.
You are welcome to redistribute it under certain conditions.
Type 'license()' or 'licence()' for distribution details.

R is a collaborative project with many contributors.
Type 'contributors()' for more information and
'citation()' on how to cite R or R packages in publications.

Type 'demo()' for some demos, 'help()' for on-line help, or
'help.start()' for an HTML browser interface to help.
Type 'q()' to quit R.

> #require("BiocGenerics", quietly = TRUE)
> BiocGenerics:::testPackage("gCrisprTools")


RUNIT TEST PROTOCOL -- Wed Mar 15 20:47:09 2023 
*********************************************** 
Number of test functions: 0 
Number of errors: 0 
Number of failures: 0 

 
1 Test Suite : 
gCrisprTools RUnit Tests - 0 test functions, 0 errors, 0 failures
Number of test functions: 0 
Number of errors: 0 
Number of failures: 0 
> 
> proc.time()
   user  system elapsed 
  7.099   0.445   7.528 

Example timings

gCrisprTools.Rcheck/gCrisprTools-Ex.timings

nameusersystemelapsed
aln0.0030.0010.003
ann0.0610.0000.061
ct.CAT1.4180.1151.534
ct.DirectionalTests0.2600.0520.312
ct.GCbias6.3830.2446.628
ct.GREATdb25.891 1.49227.032
ct.PRC2.0740.0722.141
ct.ROC1.2380.0001.238
ct.RRAaPvals0.3000.0040.303
ct.RRAalpha0.2360.0000.236
ct.alignmentChart0.0040.0000.005
ct.alphaBeta000
ct.applyAlpha0.0010.0020.002
ct.buildSE0.3660.0100.376
ct.compareContrasts7.7460.3168.062
ct.contrastBarchart5.6170.0045.621
ct.expandAnnotation0.0620.0000.061
ct.filterReads0.2290.0000.229
ct.gRNARankByReplicate0.4020.0040.405
ct.generateResults0.4140.0080.422
ct.guideCDF8.9420.2249.167
ct.keyCheck0.1150.0000.115
ct.makeContrastReport9.4550.1429.607
ct.makeQCReport5.2800.0745.361
ct.makeReport17.852 0.16718.021
ct.makeRhoNull0.0000.0000.001
ct.normalizeBySlope1.2660.0081.275
ct.normalizeFQ0.7980.0280.825
ct.normalizeGuides3.2700.0283.298
ct.normalizeMedians0.7460.0080.753
ct.normalizeNTC0.9010.0200.921
ct.normalizeSpline0.9880.0121.000
ct.parseGeneSymbol0.0010.0000.001
ct.prepareAnnotation0.5040.0000.504
ct.preprocessFit2.5630.1202.684
ct.rankSimple3.3240.0043.328
ct.rawCountDensities0.1320.0000.132
ct.regularizeContrasts0.0930.0000.093
ct.resultCheck0.0550.0000.054
ct.scatter0.3350.0000.335
ct.seas6.6261.2036.310
ct.seasPrep1.9850.2882.052
ct.signalSummary1.4380.0121.450
ct.simpleResult1.1630.0441.207
ct.softLog000
ct.stackGuides4.6040.3104.915
ct.targetSetEnrichment1.1930.0041.197
ct.topTargets0.3120.0000.312
ct.upSet7.0930.1007.193
ct.viewControls0.2110.0000.210
ct.viewGuides0.2830.0080.290
es0.0490.0000.049
essential.genes0.0010.0000.001
fit0.1640.0080.172
resultsDF0.0570.0000.056