Name | Last modified | Size | Description | |
---|---|---|---|---|
Parent Directory | - | |||
install-out.txt | 12-Jun-2024 03:43 | 1.0K | ||
install-summary.dcf | 12-Jun-2024 03:43 | 273 | ||
buildsrc-out.txt | 12-Jun-2024 03:43 | 824 | ||
buildsrc-summary.dcf | 12-Jun-2024 03:43 | 433 | ||
checksrc-summary.dcf | 12-Jun-2024 03:43 | 452 | ||
checksrc-out.txt | 12-Jun-2024 03:43 | 9.1K | ||
buildbin-out.txt | 12-Jun-2024 03:43 | 1.2K | ||
buildbin-summary.dcf | 12-Jun-2024 03:43 | 542 | ||