Name | Last modified | Size | Description | |
---|---|---|---|---|
Parent Directory | - | |||
install-summary.dcf | 24-Jul-2024 22:04 | 281 | ||
install-out.txt | 24-Jul-2024 22:04 | 1.6M | ||
buildsrc-out.txt | 24-Jul-2024 22:04 | 1.3K | ||
buildsrc-summary.dcf | 24-Jul-2024 22:04 | 477 | ||
checksrc-out.txt | 24-Jul-2024 22:04 | 18K | ||
checksrc-summary.dcf | 24-Jul-2024 22:04 | 477 | ||
buildbin-summary.dcf | 24-Jul-2024 22:04 | 552 | ||
buildbin-out.txt | 24-Jul-2024 22:04 | 1.6M | ||