Name | Last modified | Size | Description | |
---|---|---|---|---|
Parent Directory | - | |||
buildbin-out.txt | 29-Jun-2024 06:41 | 1.6M | ||
buildbin-summary.dcf | 29-Jun-2024 06:41 | 552 | ||
buildsrc-out.txt | 29-Jun-2024 06:41 | 1.3K | ||
buildsrc-summary.dcf | 29-Jun-2024 06:41 | 477 | ||
checksrc-out.txt | 29-Jun-2024 06:41 | 18K | ||
checksrc-summary.dcf | 29-Jun-2024 06:41 | 477 | ||
install-out.txt | 29-Jun-2024 06:41 | 1.6M | ||
install-summary.dcf | 29-Jun-2024 06:41 | 281 | ||