Index of /checkResults/release/bioc-LATEST/flowWorkspace/raw-results/nebbiolo1

[ICO]NameLast modifiedSizeDescription

[DIR]Parent Directory  -  
[   ]install-summary.dcf24-Jul-2024 22:03 272  
[   ]buildsrc-summary.dcf24-Jul-2024 22:03 436  
[   ]checksrc-summary.dcf24-Jul-2024 22:03 444  
[TXT]buildsrc-out.txt24-Jul-2024 22:03 1.2K 
[TXT]install-out.txt24-Jul-2024 22:03 7.8K 
[TXT]checksrc-out.txt24-Jul-2024 22:03 17K