Back to Multiple platform build/check report for BioC 3.12
ABCDE[F]GHIJKLMNOPQRSTUVWXYZ

Multiple platform build/check report for BioC 3.12

Results for flowType

This page was generated on 2021-01-16 11:50:20 -0500 (Sat, 16 Jan 2021).

Package 637/1974HostnameOS / ArchINSTALLBUILDCHECKBUILD BIN
flowType 2.28.0
Nima Aghaeepour
Snapshot Date: 2021-01-15 14:40:26 -0500 (Fri, 15 Jan 2021)
URL: https://git.bioconductor.org/packages/flowType
Branch: RELEASE_3_12
Last Commit: 237181d
Last Changed Date: 2020-10-27 10:42:00 -0500 (Tue, 27 Oct 2020)
malbec1 Linux (Ubuntu 18.04.5 LTS) / x86_64  OK  OK  ERROR 
nebbiolo1 Linux (Ubuntu 20.04.1 LTS) / x86_64  OK  OK  ERROR 
tokay1 Windows Server 2012 R2 Standard / x64  OK  OK  ERROR  OK 
merida1 macOS 10.14.6 Mojave / x86_64  OK  OK  ERROR  OK